BEGIN:VCALENDAR
VERSION:2.0
PRODID:-//Sibylles MusikWerkstatt - ECPv6.15.20//NONSGML v1.0//EN
CALSCALE:GREGORIAN
METHOD:PUBLISH
X-ORIGINAL-URL:https://sibylle-schaffrath.de
X-WR-CALDESC:Veranstaltungen für Sibylles MusikWerkstatt
REFRESH-INTERVAL;VALUE=DURATION:PT1H
X-Robots-Tag:noindex
X-PUBLISHED-TTL:PT1H
BEGIN:VTIMEZONE
TZID:Europe/Berlin
BEGIN:DAYLIGHT
TZOFFSETFROM:+0100
TZOFFSETTO:+0200
TZNAME:CEST
DTSTART:20250330T010000
END:DAYLIGHT
BEGIN:STANDARD
TZOFFSETFROM:+0200
TZOFFSETTO:+0100
TZNAME:CET
DTSTART:20251026T010000
END:STANDARD
BEGIN:DAYLIGHT
TZOFFSETFROM:+0100
TZOFFSETTO:+0200
TZNAME:CEST
DTSTART:20260329T010000
END:DAYLIGHT
BEGIN:STANDARD
TZOFFSETFROM:+0200
TZOFFSETTO:+0100
TZNAME:CET
DTSTART:20261025T010000
END:STANDARD
BEGIN:DAYLIGHT
TZOFFSETFROM:+0100
TZOFFSETTO:+0200
TZNAME:CEST
DTSTART:20270328T010000
END:DAYLIGHT
BEGIN:STANDARD
TZOFFSETFROM:+0200
TZOFFSETTO:+0100
TZNAME:CET
DTSTART:20271031T010000
END:STANDARD
END:VTIMEZONE
BEGIN:VEVENT
DTSTART;TZID=Europe/Berlin:20260419T140000
DTEND;TZID=Europe/Berlin:20260419T180000
DTSTAMP:20260425T190557
CREATED:20260407T142126Z
LAST-MODIFIED:20260408T073456Z
UID:2665-1776607200-1776621600@sibylle-schaffrath.de
SUMMARY:Ukulele-Treffen
DESCRIPTION:Anmeldung bitte per EMail an Sibylle
URL:https://sibylle-schaffrath.de/event/ukulele-treffen/
LOCATION:wird bei Anmeldung mitgeteilt
CATEGORIES:Ukulele
END:VEVENT
BEGIN:VEVENT
DTSTART;TZID=Europe/Berlin:20260417T190000
DTEND;TZID=Europe/Berlin:20260417T203000
DTSTAMP:20260425T190557
CREATED:20260330T135538Z
LAST-MODIFIED:20260330T135538Z
UID:275-1776452400-1776457800@sibylle-schaffrath.de
SUMMARY:Sibylles Offene Singgruppe
DESCRIPTION:
URL:https://sibylle-schaffrath.de/event/sibylles-offene-singgruppe-7/
LOCATION:Kapelle Klinikum Ortenau\, Klostenstr. 19\, Lahr\, 77933
CATEGORIES:Gemeinsam Singen
END:VEVENT
BEGIN:VEVENT
DTSTART;TZID=Europe/Berlin:20260402T190000
DTEND;TZID=Europe/Berlin:20260402T203000
DTSTAMP:20260425T190557
CREATED:20260330T135445Z
LAST-MODIFIED:20260330T135445Z
UID:273-1775156400-1775161800@sibylle-schaffrath.de
SUMMARY:Sibylles Offene Singgruppe
DESCRIPTION:
URL:https://sibylle-schaffrath.de/event/sibylles-offene-singgruppe-6/
LOCATION:Kapelle Klinikum Ortenau\, Klostenstr. 19\, Lahr\, 77933
CATEGORIES:Gemeinsam Singen
END:VEVENT
BEGIN:VEVENT
DTSTART;TZID=Europe/Berlin:20260322T150000
DTEND;TZID=Europe/Berlin:20260322T170000
DTSTAMP:20260425T190557
CREATED:20260206T131440Z
LAST-MODIFIED:20260326T173005Z
UID:95-1774191600-1774198800@sibylle-schaffrath.de
SUMMARY:Workshop: Gemeinsam Singen macht glücklich
DESCRIPTION:Anmeldung erforderlich. \nWeitere Infos folgen!
URL:https://sibylle-schaffrath.de/event/workshop-gemeinsam-singen-macht-gluecklich/
LOCATION:Villa Jamm\, Kaiserstrasse 101\, Lahr\, 77933
CATEGORIES:Gemeinsam Singen
END:VEVENT
BEGIN:VEVENT
DTSTART;TZID=Europe/Berlin:20260306T190000
DTEND;TZID=Europe/Berlin:20260306T203000
DTSTAMP:20260425T190557
CREATED:20260129T135118Z
LAST-MODIFIED:20260129T135118Z
UID:62-1772823600-1772829000@sibylle-schaffrath.de
SUMMARY:Sibylles Offene Singgruppe
DESCRIPTION:
URL:https://sibylle-schaffrath.de/event/sibylles-offene-singgruppe-4/
LOCATION:Kapelle Klinikum Ortenau\, Klostenstr. 19\, Lahr\, 77933
CATEGORIES:Gemeinsam Singen
END:VEVENT
BEGIN:VEVENT
DTSTART;TZID=Europe/Berlin:20260227T193000
DTEND;TZID=Europe/Berlin:20260227T210000
DTSTAMP:20260425T190557
CREATED:20260129T135422Z
LAST-MODIFIED:20260129T135422Z
UID:64-1772220600-1772226000@sibylle-schaffrath.de
SUMMARY:Sibylles Offene Singgruppe
DESCRIPTION:
URL:https://sibylle-schaffrath.de/event/sibylles-offene-singgruppe-5/
LOCATION:Staufenburgklinik\, Burgunderstraße 24\, Durbach\, 77770
CATEGORIES:Gemeinsam Singen
END:VEVENT
BEGIN:VEVENT
DTSTART;TZID=Europe/Berlin:20260219T190000
DTEND;TZID=Europe/Berlin:20260219T203000
DTSTAMP:20260425T190557
CREATED:20260129T135023Z
LAST-MODIFIED:20260129T135023Z
UID:60-1771527600-1771533000@sibylle-schaffrath.de
SUMMARY:Sibylles Offene Singgruppe
DESCRIPTION:
URL:https://sibylle-schaffrath.de/event/sibylles-offene-singgruppe-3/
LOCATION:Kapelle Klinikum Ortenau\, Klostenstr. 19\, Lahr\, 77933
CATEGORIES:Gemeinsam Singen
END:VEVENT
BEGIN:VEVENT
DTSTART;TZID=Europe/Berlin:20260206T190000
DTEND;TZID=Europe/Berlin:20260206T203000
DTSTAMP:20260425T190557
CREATED:20260129T134929Z
LAST-MODIFIED:20260129T134929Z
UID:58-1770404400-1770409800@sibylle-schaffrath.de
SUMMARY:Sibylles Offene Singgruppe
DESCRIPTION:
URL:https://sibylle-schaffrath.de/event/sibylles-offene-singgruppe-2/
LOCATION:Kapelle Klinikum Ortenau\, Klostenstr. 19\, Lahr\, 77933
CATEGORIES:Gemeinsam Singen
END:VEVENT
BEGIN:VEVENT
DTSTART;TZID=Europe/Berlin:20260122T190000
DTEND;TZID=Europe/Berlin:20260122T203000
DTSTAMP:20260425T190557
CREATED:20260129T134826Z
LAST-MODIFIED:20260129T134826Z
UID:53-1769108400-1769113800@sibylle-schaffrath.de
SUMMARY:Sibylles Offene Singgruppe
DESCRIPTION:
URL:https://sibylle-schaffrath.de/event/sibylles-offene-singgruppe/
LOCATION:Kapelle Klinikum Ortenau\, Klostenstr. 19\, Lahr\, 77933
CATEGORIES:Gemeinsam Singen
END:VEVENT
END:VCALENDAR